Workbook

Sheet Instrukcja
A1: Raport dzienny sklepów – szablon
A3: PRZYKŁADOWE DANE: wszystkie liczby w tym pliku są wymyślone i służą tylko do pokazania, jak działa szablon.
A5: Jak używać
A6: 1. Arkusz „Dziennie”: co rano wpisz jeden wiersz na sklep (niebieskie pola). Kolumny H–J liczą się same.
A7: 2. Arkusz „Podsumowanie”: w żółtej komórce B2 wpisz pierwszy dzień miesiąca. Tabela pokaże wyniki każdego sklepu.
A8: 3. Arkusz „Koszty”: wklej pozycje z wyciągu bankowego i wybierz kategorię z listy. Suma na kategorie liczy się po prawej.
A10: Oznaczenia
A11: Niebieski tekst – dane wpisywane ręcznie
A12: Czarny tekst – formuły (nie zmieniać)
A13: Żółte tło – pole do ustawienia przez użytkownika
A15: Skróty
A16: ROAS – przychód z reklam podzielony przez wydatki na reklamy (ile zł wraca z 1 zł reklamy)
A17: CPA – koszt pozyskania jednego zakupu z reklamy

Sheet Dziennie
A1: Data | B1: Sklep | C1: Wydatki Meta Ads (zł) | D1: Zakupy z Meta | E1: Przychód z Meta (zł) | F1: Zamówienia WooCommerce | G1: Przychód WooCommerce (zł) | H1: ROAS Meta | I1: CPA Meta (zł) | J1: Udział Meta w sprzedaży
A2: 46296 | B2: Sklep A | C2: 111.54 | D2: 6 | E2: 724.81 | F2: 8 | G2: 977.62 | H2: =IFERROR(E2/C2,0) -> 6.4982069 | I2: =IFERROR(C2/D2,0) -> 18.59 | J2: =IFERROR(E2/G2,0) -> 0.74140259
A3: 46296 | B3: Sklep B | C3: 67.01 | D3: 6 | E3: 810.2 | F3: 9 | G3: 1138.84 | H3: =IFERROR(E3/C3,0) -> 12.090733 | I3: =IFERROR(C3/D3,0) -> 11.168333 | J3: =IFERROR(E3/G3,0) -> 0.71142566
A4: 46296 | B4: Sklep C | C4: 146.02 | D4: 7 | E4: 629.92 | F4: 12 | G4: 997.86 | H4: =IFERROR(E4/C4,0) -> 4.3139296 | I4: =IFERROR(C4/D4,0) -> 20.86 | J4: =IFERROR(E4/G4,0) -> 0.63127092
A5: 46297 | B5: Sklep A | C5: 123.14 | D5: 12 | E5: 1436.21 | F5: 18 | G5: 2214.86 | H5: =IFERROR(E5/C5,0) -> 11.663229 | I5: =IFERROR(C5/D5,0) -> 10.261667 | J5: =IFERROR(E5/G5,0) -> 0.64844279
A6: 46297 | B6: Sklep B | C6: 82.47 | D6: 5 | E6: 693.47 | F6: 7 | G6: 961.7 | H6: =IFERROR(E6/C6,0) -> 8.4087547 | I6: =IFERROR(C6/D6,0) -> 16.494 | J6: =IFERROR(E6/G6,0) -> 0.72108766
A7: 46297 | B7: Sklep C | C7: 127.99 | D7: 10 | E7: 1147.38 | F7: 16 | G7: 1761.83 | H7: =IFERROR(E7/C7,0) -> 8.9646066 | I7: =IFERROR(C7/D7,0) -> 12.799 | J7: =IFERROR(E7/G7,0) -> 0.65124331
A8: 46298 | B8: Sklep A | C8: 135.17 | D8: 6 | E8: 701.93 | F8: 13 | G8: 1403.22 | H8: =IFERROR(E8/C8,0) -> 5.1929422 | I8: =IFERROR(C8/D8,0) -> 22.528333 | J8: =IFERROR(E8/G8,0) -> 0.50022805
A9: 46298 | B9: Sklep B | C9: 67.12 | D9: 7 | E9: 812.28 | F9: 13 | G9: 1412.29 | H9: =IFERROR(E9/C9,0) -> 12.101907 | I9: =IFERROR(C9/D9,0) -> 9.5885714 | J9: =IFERROR(E9/G9,0) -> 0.575151
A10: 46298 | B10: Sklep C | C10: 160.82 | D10: 10 | E10: 1022.78 | F10: 16 | G10: 1683.72 | H10: =IFERROR(E10/C10,0) -> 6.3597811 | I10: =IFERROR(C10/D10,0) -> 16.082 | J10: =IFERROR(E10/G10,0) -> 0.60745255
A11: 46299 | B11: Sklep A | C11: 113.36 | D11: 7 | E11: 664.21 | F11: 15 | G11: 1327.08 | H11: =IFERROR(E11/C11,0) -> 5.8592978 | I11: =IFERROR(C11/D11,0) -> 16.194286 | J11: =IFERROR(E11/G11,0) -> 0.50050487
A12: 46299 | B12: Sklep B | C12: 82.38 | D12: 6 | E12: 798.8 | F12: 13 | G12: 1669.83 | H12: =IFERROR(E12/C12,0) -> 9.6965283 | I12: =IFERROR(C12/D12,0) -> 13.73 | J12: =IFERROR(E12/G12,0) -> 0.47837205
A13: 46299 | B13: Sklep C | C13: 156.54 | D13: 7 | E13: 792.09 | F13: 10 | G13: 1140.77 | H13: =IFERROR(E13/C13,0) -> 5.0599847 | I13: =IFERROR(C13/D13,0) -> 22.362857 | J13: =IFERROR(E13/G13,0) -> 0.6943468
... A43: 46309 | B43: Sklep C | C43: 140.66 | D43: 13 | E43: 1622.04 | F43: 17 | G43: 2164.3 | H43: =IFERROR(E43/C43,0) -> 11.531637 | I43: =IFERROR(C43/D43,0) -> 10.82 | J43: =IFERROR(E43/G43,0) -> 0.74945248

Sheet Podsumowanie
A1: Podsumowanie miesiąca
A2: Miesiąc (1. dzień): | B2: 46296 | D2: Koniec miesiąca: | E2: =EOMONTH(B2,0) -> 46326
A4: Sklep | B4: Wydatki Meta (zł) | C4: Zakupy z Meta | D4: Przychód z Meta (zł) | E4: Zamówienia Woo | F4: Przychód Woo (zł) | G4: ROAS Meta | H4: CPA Meta (zł)
A5: Sklep A | B5: =SUMIFS(Dziennie!$C$2:$C$1000,Dziennie!$A$2:$A$1000,">="&$B$2,Dziennie!$A$2:$A$1000,"<="&$E$2,Dziennie!$B$2:$B$1000,$A5) -> 1668.24 | C5: =SUMIFS(Dziennie!$D$2:$D$1000,Dziennie!$A$2:$A$1000,">="&$B$2,Dziennie!$A$2:$A$1000,"<="&$E$2,Dziennie!$B$2:$B$1000,$A5) -> 114 | D5: =SUMIFS(Dziennie!$E$2:$E$1000,Dziennie!$A$2:$A$1000,">="&$B$2,Dziennie!$A$2:$A$1000,"<="&$E$2,Dziennie!$B$2:$B$1000,$A5) -> 12559.14 | E5: =SUMIFS(Dziennie!$F$2:$F$1000,Dziennie!$A$2:$A$1000,">="&$B$2,Dziennie!$A$2:$A$1000,"<="&$E$2,Dziennie!$B$2:$B$1000,$A5) -> 194 | F5: =SUMIFS(Dziennie!$G$2:$G$1000,Dziennie!$A$2:$A$1000,">="&$B$2,Dziennie!$A$2:$A$1000,"<="&$E$2,Dziennie!$B$2:$B$1000,$A5) -> 20709.17 | G5: =IFERROR(D5/B5,0) -> 7.5283772 | H5: =IFERROR(B5/C5,0) -> 14.633684
A6: Sklep B | B6: =SUMIFS(Dziennie!$C$2:$C$1000,Dziennie!$A$2:$A$1000,">="&$B$2,Dziennie!$A$2:$A$1000,"<="&$E$2,Dziennie!$B$2:$B$1000,$A6) -> 1100.12 | C6: =SUMIFS(Dziennie!$D$2:$D$1000,Dziennie!$A$2:$A$1000,">="&$B$2,Dziennie!$A$2:$A$1000,"<="&$E$2,Dziennie!$B$2:$B$1000,$A6) -> 82 | D6: =SUMIFS(Dziennie!$E$2:$E$1000,Dziennie!$A$2:$A$1000,">="&$B$2,Dziennie!$A$2:$A$1000,"<="&$E$2,Dziennie!$B$2:$B$1000,$A6) -> 9657.05 | E6: =SUMIFS(Dziennie!$F$2:$F$1000,Dziennie!$A$2:$A$1000,">="&$B$2,Dziennie!$A$2:$A$1000,"<="&$E$2,Dziennie!$B$2:$B$1000,$A6) -> 145 | F6: =SUMIFS(Dziennie!$G$2:$G$1000,Dziennie!$A$2:$A$1000,">="&$B$2,Dziennie!$A$2:$A$1000,"<="&$E$2,Dziennie!$B$2:$B$1000,$A6) -> 16707.89 | G6: =IFERROR(D6/B6,0) -> 8.7781787 | H6: =IFERROR(B6/C6,0) -> 13.416098
A7: Sklep C | B7: =SUMIFS(Dziennie!$C$2:$C$1000,Dziennie!$A$2:$A$1000,">="&$B$2,Dziennie!$A$2:$A$1000,"<="&$E$2,Dziennie!$B$2:$B$1000,$A7) -> 2197.11 | C7: =SUMIFS(Dziennie!$D$2:$D$1000,Dziennie!$A$2:$A$1000,">="&$B$2,Dziennie!$A$2:$A$1000,"<="&$E$2,Dziennie!$B$2:$B$1000,$A7) -> 147 | D7: =SUMIFS(Dziennie!$E$2:$E$1000,Dziennie!$A$2:$A$1000,">="&$B$2,Dziennie!$A$2:$A$1000,"<="&$E$2,Dziennie!$B$2:$B$1000,$A7) -> 17385.36 | E7: =SUMIFS(Dziennie!$F$2:$F$1000,Dziennie!$A$2:$A$1000,">="&$B$2,Dziennie!$A$2:$A$1000,"<="&$E$2,Dziennie!$B$2:$B$1000,$A7) -> 217 | F7: =SUMIFS(Dziennie!$G$2:$G$1000,Dziennie!$A$2:$A$1000,">="&$B$2,Dziennie!$A$2:$A$1000,"<="&$E$2,Dziennie!$B$2:$B$1000,$A7) -> 25033.5 | G7: =IFERROR(D7/B7,0) -> 7.9128309 | H7: =IFERROR(B7/C7,0) -> 14.946327
A8: Razem | B8: =SUM(B5:B7) -> 4965.47 | C8: =SUM(C5:C7) -> 343 | D8: =SUM(D5:D7) -> 39601.55 | E8: =SUM(E5:E7) -> 556 | F8: =SUM(F5:F7) -> 62450.56 | G8: =IFERROR(D8/B8,0) -> 7.975388 | H8: =IFERROR(B8/C8,0) -> 14.476589

Sheet Koszty
A1: Data | B1: Opis z wyciągu | C1: Kwota (zł) | D1: Kategoria | F1: Kategoria | G1: Suma (zł)
A2: 46297 | B2: FACEBK *ADS 4421 | C2: 812.4 | D2: Reklama | F2: Reklama | G2: =SUMIFS($C$2:$C$500,$D$2:$D$500,F2) -> 1453.15
A3: 46298 | B3: InPost Sp. z o.o. | C3: 356.2 | D3: Wysyłka | F3: Towar | G3: =SUMIFS($C$2:$C$500,$D$2:$D$500,F3) -> 2450
A4: 46300 | B4: Hurtownia ABC – FV 112/10 | C4: 2450 | D4: Towar | F4: Wysyłka | G4: =SUMIFS($C$2:$C$500,$D$2:$D$500,F4) -> 554.8
A5: 46302 | B5: WooCommerce Subscriptions | C5: 89 | D5: Oprogramowanie | F5: Księgowość | G5: =SUMIFS($C$2:$C$500,$D$2:$D$500,F5) -> 350
A6: 46305 | B6: Biuro rachunkowe – październik | C6: 350 | D6: Księgowość | F6: Oprogramowanie | G6: =SUMIFS($C$2:$C$500,$D$2:$D$500,F6) -> 89
A7: 46307 | B7: FACEBK *ADS 4489 | C7: 640.75 | D7: Reklama | F7: Inne | G7: =SUMIFS($C$2:$C$500,$D$2:$D$500,F7) -> 15
A8: 46310 | B8: DPD Polska | C8: 198.6 | D8: Wysyłka | F8: Razem | G8: =SUM(G2:G7) -> 4911.95
A9: 46313 | B9: Opłata za konto | C9: 15 | D9: Inne | F9: Bez kategorii | G9: =SUM($C$2:$C$500)-G8 -> 0
